BEGIN:VCALENDAR
VERSION:2.0
PRODID:-//SDG Music Ministry - ECPv6.15.20//NONSGML v1.0//EN
CALSCALE:GREGORIAN
METHOD:PUBLISH
X-ORIGINAL-URL:https://sdgmusicministry.com
X-WR-CALDESC:Eventos para SDG Music Ministry
REFRESH-INTERVAL;VALUE=DURATION:PT1H
X-Robots-Tag:noindex
X-PUBLISHED-TTL:PT1H
BEGIN:VTIMEZONE
TZID:Europe/Madrid
BEGIN:DAYLIGHT
TZOFFSETFROM:+0100
TZOFFSETTO:+0200
TZNAME:CEST
DTSTART:20250330T010000
END:DAYLIGHT
BEGIN:STANDARD
TZOFFSETFROM:+0200
TZOFFSETTO:+0100
TZNAME:CET
DTSTART:20251026T010000
END:STANDARD
BEGIN:DAYLIGHT
TZOFFSETFROM:+0100
TZOFFSETTO:+0200
TZNAME:CEST
DTSTART:20260329T010000
END:DAYLIGHT
BEGIN:STANDARD
TZOFFSETFROM:+0200
TZOFFSETTO:+0100
TZNAME:CET
DTSTART:20261025T010000
END:STANDARD
BEGIN:DAYLIGHT
TZOFFSETFROM:+0100
TZOFFSETTO:+0200
TZNAME:CEST
DTSTART:20270328T010000
END:DAYLIGHT
BEGIN:STANDARD
TZOFFSETFROM:+0200
TZOFFSETTO:+0100
TZNAME:CET
DTSTART:20271031T010000
END:STANDARD
END:VTIMEZONE
BEGIN:VEVENT
DTSTART;TZID=Europe/Madrid:20260228T170000
DTEND;TZID=Europe/Madrid:20260228T183000
DTSTAMP:20260421T012500
CREATED:20260223T165057Z
LAST-MODIFIED:20260223T165058Z
UID:99001-1772298000-1772303400@sdgmusicministry.com
SUMMARY:Concierto Fuenlabrada
DESCRIPTION:Te invitamos el próximo sábado 28 de febrero a nuestro concierto en la calle de Lanzarote\, 1 en Fuenlabrada situada en la provincia de Madrid. \nComenzaremos a las 17:00 horas y estaremos el coro y orquesta completos. La entrada es gratuita. !No puedes perdértelo!
URL:https://sdgmusicministry.com/evento/concierto-fuenlabrada/
CATEGORIES:Concierto
ATTACH;FMTTYPE=image/jpeg:https://sdgmusicministry.com/wp-content/uploads/2026/02/Concierto-Fuenlabrada.jpeg
END:VEVENT
BEGIN:VEVENT
DTSTART;TZID=Europe/Madrid:20260321T180000
DTEND;TZID=Europe/Madrid:20260321T193000
DTSTAMP:20260421T012500
CREATED:20260316T214228Z
LAST-MODIFIED:20260316T214319Z
UID:99016-1774116000-1774121400@sdgmusicministry.com
SUMMARY:Concierto Alcalá de Henares
DESCRIPTION:El sábado 21 de marzo de 2026 presentamos en el histórico municipio madrileño de Alcalá de Henares un concierto muy especiales. Con participación de el coro\, la orquesta y solistas. \nEstas invitado para disfrutar de una música elevadora. Entrada gratuita. \nSi deseas más información puedes ponerte en contacto con nosotros a través de nuestra página de contacto: Ir a página de contacto.
URL:https://sdgmusicministry.com/evento/concierto-alcala-de-henares-2/
CATEGORIES:Concierto
ATTACH;FMTTYPE=image/jpeg:https://sdgmusicministry.com/wp-content/uploads/2026/03/Concierto-marzo.jpeg
END:VEVENT
BEGIN:VEVENT
DTSTART;TZID=Europe/Madrid:20260328T180000
DTEND;TZID=Europe/Madrid:20260328T183000
DTSTAMP:20260421T012500
CREATED:20260326T150102Z
LAST-MODIFIED:20260326T150102Z
UID:99022-1774720800-1774722600@sdgmusicministry.com
SUMMARY:Concierto Nuevo Baztán
DESCRIPTION:El sábado 24 de marzo presentamos en el Centro Cultural Valmores situado en la calle Ronda de Manchester\, 133 en Nuevo Baztán (Madrid) un Concierto de música sacra. Con participación de el coro\, la orquesta y solistas. \n  \nEstas invitado a las 18:00h a disfrutar de una música elevadora. Entrada gratuita. \nSi deseas más información puedes ponerte en contacto con nosotros a través de nuestra página de contacto: Ir a página de contacto.
URL:https://sdgmusicministry.com/evento/concierto-nuevo-baztan/
CATEGORIES:Concierto
ATTACH;FMTTYPE=image/jpeg:https://sdgmusicministry.com/wp-content/uploads/2026/03/Concierto-Nuevo-Baztan.jpeg
END:VEVENT
BEGIN:VEVENT
DTSTART;VALUE=DATE:20260403
DTEND;VALUE=DATE:20260406
DTSTAMP:20260421T012500
CREATED:20260223T165954Z
LAST-MODIFIED:20260223T170528Z
UID:99004-1775174400-1775433599@sdgmusicministry.com
SUMMARY:Programa en Sagunto
DESCRIPTION:Entre los días 3 y 5 de abril nuestro coro y orquesta nos trasladaremos a la histórica ciudad de Sagunto en Valencia para celebrar un programa confeccionado con mucho cariño. \nSíguenos para más información que iremos actualizando en nuestra redes.  \nSi deseas más información puedes ponerte en contacto con nosotros a través de nuestra página de contacto: Ir a página de contacto.
URL:https://sdgmusicministry.com/evento/viaje-a-sagunto/
CATEGORIES:Concierto,Encuentro
ATTACH;FMTTYPE=image/jpeg:https://sdgmusicministry.com/wp-content/uploads/2026/02/castillo-sagunto.jpg
END:VEVENT
BEGIN:VEVENT
DTSTART;TZID=Europe/Madrid:20260614T120000
DTEND;TZID=Europe/Madrid:20260614T133000
DTSTAMP:20260421T012500
CREATED:20260223T170739Z
LAST-MODIFIED:20260223T170739Z
UID:99009-1781438400-1781443800@sdgmusicministry.com
SUMMARY:Concierto en Madrid
DESCRIPTION:El domingo 14 de junio presentamos en la Calle los Yébenes\, 255 Bajo\, Madrid un Concierto muy especial. Con participación de el coro\, la orquesta y solistas. \n  \nEstas invitado a las 12:00h a disfrutar de una música elevadora. Entrada gratuita. \nSi deseas más información puedes ponerte en contacto con nosotros a través de nuestra página de contacto: Ir a página de contacto.
URL:https://sdgmusicministry.com/evento/concierto-en-madrid-5/
LOCATION:IASD Aluche\, C/ Los Yébenes\, 255 - Bajo\, Madrid\, España
CATEGORIES:Concierto
ATTACH;FMTTYPE=image/jpeg:https://sdgmusicministry.com/wp-content/uploads/2019/07/musica-soli-deo-gloria.jpg
END:VEVENT
BEGIN:VEVENT
DTSTART;VALUE=DATE:20260619
DTEND;VALUE=DATE:20260622
DTSTAMP:20260421T012500
CREATED:20260223T171243Z
LAST-MODIFIED:20260223T171243Z
UID:99013-1781827200-1782086399@sdgmusicministry.com
SUMMARY:Encuentro en Entrepeñas\, Guadalajara
DESCRIPTION:Encuentro de fin de semana los días 19 al 21 de junio en el pantano de Entrepeñas en Guadalajara. Un hermosos espacio para socializar\, hacer deporte\, ensayar y aprender de música. \nTambién nos reuniremos con el equipo de LogosTV para realizar talleres y grabar videos musicales. \nSi deseas más información puedes ponerte en contacto con nosotros a través de nuestra página de contacto: Ir a página de contacto.
URL:https://sdgmusicministry.com/evento/encuentro-en-entrepenas-guadalajara-2/
LOCATION:Entrepeñas\, Sacedón\, Guadalajara\, España
CATEGORIES:Encuentro
ATTACH;FMTTYPE=image/jpeg:https://sdgmusicministry.com/wp-content/uploads/2020/02/entrepeñas.jpg
END:VEVENT
END:VCALENDAR