BEGIN:VCALENDAR
VERSION:2.0
PRODID:-//SDG Music Ministry - ECPv6.15.20//NONSGML v1.0//EN
CALSCALE:GREGORIAN
METHOD:PUBLISH
X-ORIGINAL-URL:https://sdgmusicministry.com
X-WR-CALDESC:Eventos para SDG Music Ministry
REFRESH-INTERVAL;VALUE=DURATION:PT1H
X-Robots-Tag:noindex
X-PUBLISHED-TTL:PT1H
BEGIN:VTIMEZONE
TZID:UTC
BEGIN:STANDARD
TZOFFSETFROM:+0000
TZOFFSETTO:+0000
TZNAME:UTC
DTSTART:20210101T000000
END:STANDARD
END:VTIMEZONE
BEGIN:VEVENT
DTSTART;VALUE=DATE:20220910
DTEND;VALUE=DATE:20220918
DTSTAMP:20260424T174833
CREATED:20220906T134852Z
LAST-MODIFIED:20220906T170846Z
UID:65429-1662768000-1663459199@sdgmusicministry.com
SUMMARY:Seminario El Cristiano y la Música. Principios inspirados de adoración
DESCRIPTION:¿Será que el tipo de música que escucho puede influenciar mi vida cristiana? ¿Hasta donde debemos dar paso a cualquier expresión musical o cultural en nuestra adoración? ¿Habrá principios claros respecto de este tema? \nDel 10 al 17 de septiembre de 2022 tendrá lugar este seminario en el que participarán músicos de varios países. \nEl seminario abordará temas conflictivos en el actual mundo cristiano con respecto al uso de la música como parte de la adoración a Dios y desde un análisis bíblico y profesional se formularán los principios que debe tener la música cristiana. \nAquí te dejamos el video de promoción: \n \nCuando: Fecha: 10-17 de Septiembre \nSÁBADOS \n15:00 Horas 🇵🇪 🇪🇨 🇵🇦 🇨🇴 🇲🇽 🇨🇴\n16:00 Horas 🇻🇪 🇺🇸🇧🇴 🇧🇷 🇵🇷 🇩🇴 🇨🇺 🇨🇱\n17:00 Horas 🇦🇷 🇵🇾\n22:00 Horas 🇪🇸 🇮🇹 \nDOMINGO A VIERNES \n18:00 Horas 🇵🇪 🇪🇨 🇵🇦 🇨🇴 🇲🇽 🇨🇴\n19:00 Horas 🇻🇪 🇺🇸🇧🇴 🇧🇷 🇵🇷 🇩🇴 🇨🇺 🇨🇱\n20:00 Horas 🇦🇷 🇵🇾\n01:00 Horas 🇪🇸 🇮🇹 \nTEMAS Y ORADORES \n1- Sábado 10 de Septiembre\nTema: Principios Universales De La Música Sagrada\nOrador: Oliver Coronado \n2- Domingo 11 de Septiembre\nTema: El Cristiano\, La Cultura Y La Música\nOrador: Dr. Carlos Steger desde Argentina \n3- Lunes 12 de Septiembre\nTema: Evangelismo y Música: Enfocados En La Sociedad De Nuestros Días\nOrador: Carlos Iván Citera desde España \n3- Martes 13 de Septiembre\nTema: El Gran Ministerio Musical\nOrador: Jonathan Oriel Lara desde Chile \n4- Miércoles 14 de Septiembre\nTema: Del Reggaeton Cristiano A La Cruz: Mi Testimonio\nOrador: Héctor Arroyo desde Puerto Rico \n5- Jueves 15 de Septiembre\nTema: El Dilema De La Distracción: Visión General De La Música 1\nOrador: Christian Berdahl desde Estados Unidos \n6- Viernes 16 de Septiembre\nTema: El Dilema De La Distracción: Visión General De La Música 2\nOrador: Christian Berdahl desde Estados Unidos \n7- Sábado 17 de Septiembre\nSesión De Preguntas Y Respuestas\nTodos Los Oradores \n¿DÓNDE PUEDES VERLO? \nFACEBOOK: \nLifestyle Conquest\nhttps://www.facebook.com/lifestyleconquest \nYOUTUBE: \nLifestyle Conquest\nhttps://www.youtube.com/c/LifestyleConquest \n 
URL:https://sdgmusicministry.com/evento/seminario-el-cristiano-y-la-musica-principios-inspirados-de-adoracion/
CATEGORIES:Conferencia
ATTACH;FMTTYPE=image/jpeg:https://sdgmusicministry.com/wp-content/uploads/2022/09/IMG-20220906-WA0000.jpg
END:VEVENT
END:VCALENDAR