BEGIN:VCALENDAR
VERSION:2.0
PRODID:-//SDG Music Ministry - ECPv6.15.20//NONSGML v1.0//EN
CALSCALE:GREGORIAN
METHOD:PUBLISH
X-WR-CALNAME:SDG Music Ministry
X-ORIGINAL-URL:https://sdgmusicministry.com/en/
X-WR-CALDESC:Events for SDG Music Ministry
REFRESH-INTERVAL;VALUE=DURATION:PT1H
X-Robots-Tag:noindex
X-PUBLISHED-TTL:PT1H
BEGIN:VTIMEZONE
TZID:Europe/Madrid
BEGIN:DAYLIGHT
TZOFFSETFROM:+0100
TZOFFSETTO:+0200
TZNAME:CEST
DTSTART:20250330T010000
END:DAYLIGHT
BEGIN:STANDARD
TZOFFSETFROM:+0200
TZOFFSETTO:+0100
TZNAME:CET
DTSTART:20251026T010000
END:STANDARD
BEGIN:DAYLIGHT
TZOFFSETFROM:+0100
TZOFFSETTO:+0200
TZNAME:CEST
DTSTART:20260329T010000
END:DAYLIGHT
BEGIN:STANDARD
TZOFFSETFROM:+0200
TZOFFSETTO:+0100
TZNAME:CET
DTSTART:20261025T010000
END:STANDARD
BEGIN:DAYLIGHT
TZOFFSETFROM:+0100
TZOFFSETTO:+0200
TZNAME:CEST
DTSTART:20270328T010000
END:DAYLIGHT
BEGIN:STANDARD
TZOFFSETFROM:+0200
TZOFFSETTO:+0100
TZNAME:CET
DTSTART:20271031T010000
END:STANDARD
END:VTIMEZONE
BEGIN:VEVENT
DTSTART;TZID=Europe/Madrid:20260228T170000
DTEND;TZID=Europe/Madrid:20260228T183000
DTSTAMP:20260420T224251
CREATED:20260223T165057Z
LAST-MODIFIED:20260223T165058Z
UID:99001-1772298000-1772303400@sdgmusicministry.com
SUMMARY:Concierto Fuenlabrada
DESCRIPTION:Te invitamos el próximo sábado 28 de febrero a nuestro concierto en la calle de Lanzarote\, 1 en Fuenlabrada situada en la provincia de Madrid. \nComenzaremos a las 17:00 horas y estaremos el coro y orquesta completos. La entrada es gratuita. !No puedes perdértelo!
URL:https://sdgmusicministry.com/en/evento/concierto-fuenlabrada/
CATEGORIES:Concierto
ATTACH;FMTTYPE=image/jpeg:https://sdgmusicministry.com/wp-content/uploads/2026/02/Concierto-Fuenlabrada.jpeg
END:VEVENT
END:VCALENDAR