BEGIN:VCALENDAR
VERSION:2.0
PRODID:-//SDG Music Ministry - ECPv6.15.20//NONSGML v1.0//EN
CALSCALE:GREGORIAN
METHOD:PUBLISH
X-WR-CALNAME:SDG Music Ministry
X-ORIGINAL-URL:https://sdgmusicministry.com/en/
X-WR-CALDESC:Events for SDG Music Ministry
REFRESH-INTERVAL;VALUE=DURATION:PT1H
X-Robots-Tag:noindex
X-PUBLISHED-TTL:PT1H
BEGIN:VTIMEZONE
TZID:Europe/Madrid
BEGIN:DAYLIGHT
TZOFFSETFROM:+0100
TZOFFSETTO:+0200
TZNAME:CEST
DTSTART:20220327T010000
END:DAYLIGHT
BEGIN:STANDARD
TZOFFSETFROM:+0200
TZOFFSETTO:+0100
TZNAME:CET
DTSTART:20221030T010000
END:STANDARD
BEGIN:DAYLIGHT
TZOFFSETFROM:+0100
TZOFFSETTO:+0200
TZNAME:CEST
DTSTART:20230326T010000
END:DAYLIGHT
BEGIN:STANDARD
TZOFFSETFROM:+0200
TZOFFSETTO:+0100
TZNAME:CET
DTSTART:20231029T010000
END:STANDARD
BEGIN:DAYLIGHT
TZOFFSETFROM:+0100
TZOFFSETTO:+0200
TZNAME:CEST
DTSTART:20240331T010000
END:DAYLIGHT
BEGIN:STANDARD
TZOFFSETFROM:+0200
TZOFFSETTO:+0100
TZNAME:CET
DTSTART:20241027T010000
END:STANDARD
END:VTIMEZONE
BEGIN:VEVENT
DTSTART;TZID=Europe/Madrid:20230616T160000
DTEND;TZID=Europe/Madrid:20230618T160000
DTSTAMP:20260424T080019
CREATED:20230516T183715Z
LAST-MODIFIED:20230516T183744Z
UID:98860-1686931200-1687104000@sdgmusicministry.com
SUMMARY:Encuentro Musical y Espiritual: Cuando hubieron cantado el himno
DESCRIPTION:Centro de Actividades Múltiples Adventistas de Entrepeñas \n¿Tocas algún instrumento orquestal? ¿Te gusta participar en coros? ¿Quisieras participar en un fin de semana de Encuentro espiritual con música de alabanza a Dios? Este es el encuentro que estabas esperando. \nOrganizado por la Asociación Cultural “SDG Music Ministry”\, en colaboración con el Departamento de Ministerio Personal de la UAE (Unión Adventista Española)\, \nLugar: Centro de Actividades Múltiples Adventista de Entrepeñas. \n  \nRegistrate ahora: https://forms.gle/Y1dZxHLU6iiirqSC8
URL:https://sdgmusicministry.com/en/evento/encuentro-musical-y-espiritual-cuando-hubieron-cantado-el-himno/
LOCATION:Entrepeñas\, Sacedón\, Guadalajara\, España
CATEGORIES:Encuentro
ATTACH;FMTTYPE=image/png:https://sdgmusicministry.com/wp-content/uploads/2023/05/Final.png
END:VEVENT
BEGIN:VEVENT
DTSTART;TZID=Europe/Madrid:20230624T180000
DTEND;TZID=Europe/Madrid:20230624T200000
DTSTAMP:20260424T080019
CREATED:20230613T141013Z
LAST-MODIFIED:20230613T141048Z
UID:98932-1687629600-1687636800@sdgmusicministry.com
SUMMARY:Concierto Solidario
DESCRIPTION:Te invitamos a nuestro Concierto Solidario que tendrá lugar en Madrid. Entrada gratuita. Todo lo recaudado será destinado a la organización humanitaria ADRA que trabaja tanto en Madrid como en proyectos humanitarios a nivel mundial. \nFecha: 24 de junio de 2023 \nHora: 18:00h \nLugar: Calle de Alenza\, 6  Madrid \n«Así pues\, según tengamos oportunidad obremos lo que es bueno para con todos»
URL:https://sdgmusicministry.com/en/evento/98932/
LOCATION:IASD Alenza\, C/ Alenza\, 6 - Bajo\, Madrid\, España
CATEGORIES:Concierto
ATTACH;FMTTYPE=image/jpeg:https://sdgmusicministry.com/wp-content/uploads/2022/04/adra-romania-2.jpg
END:VEVENT
BEGIN:VEVENT
DTSTART;TZID=Europe/Madrid:20230625T000000
DTEND;TZID=Europe/Madrid:20230625T140000
DTSTAMP:20260424T080019
CREATED:20230613T140523Z
LAST-MODIFIED:20230613T142014Z
UID:98928-1687651200-1687701600@sdgmusicministry.com
SUMMARY:Concierto Solidario
DESCRIPTION:Te invitamos a nuestro Concierto Solidario que tendrá lugar en Madrid. Entrada gratuita. Todo lo recaudado será destinado a la organización humanitaria ADRA que trabaja tanto en Madrid como en proyectos humanitarios a nivel mundial. \nFecha: 25 de junio de 2023 \nHora: 12:00h \nLugar: Calle Los Yébenes\, 255 Madrid \n«Así pues\, según tengamos oportunidad obremos lo que es bueno para con todos»
URL:https://sdgmusicministry.com/en/evento/concierto-solidario/
LOCATION:IASD Aluche\, C/ Los Yébenes\, 255 - Bajo\, Madrid\, España
CATEGORIES:Concierto
ATTACH;FMTTYPE=image/jpeg:https://sdgmusicministry.com/wp-content/uploads/2023/06/Concierto-ADRA-Aluche.jpeg
END:VEVENT
END:VCALENDAR